BEGIN:VCALENDAR
VERSION:2.0
PRODID:icalendar-ruby
CALSCALE:GREGORIAN
METHOD:PUBLISH
BEGIN:VTIMEZONE
TZID:Australia/Perth
BEGIN:STANDARD
DTSTART:20090329T020000
TZOFFSETFROM:+0900
TZOFFSETTO:+0800
TZNAME:AWST
END:STANDARD
END:VTIMEZONE
BEGIN:VEVENT
DTSTAMP:20260422T182530Z
UID:inspection_3010350
DTSTART;TZID=Australia/Perth:20260427T130000
DTEND;TZID=Australia/Perth:20260427T133000
CLASS:PUBLIC
CREATED:20260422T202740
DESCRIPTION: 
LAST-MODIFIED:20260422T202740
LOCATION:5 Seagull Close\, BALLAJURA WA 6066\, Australia
SUMMARY:5 Seagull Close\,  Inspection
URL;VALUE=URI:http://www.aquilarealty.com.au/
END:VEVENT
END:VCALENDAR
